BEGIN:VCALENDAR
PRODID:-//hacksw/handcal//NONSGML v1.0//EN
BEGIN:VEVENT
DTSTART;TZID=America/New_York:20260410T000000
DTEND;TZID=America/New_York:20260419T000000
LOCATION:
SUMMARY:PennAlumni Travel invites us to Art and Identity in Germany
DESCRIPTION:with Professor Jonathan D. Katz, former director of Yale's Larry Kramer Initiative.
METHOD:PUBLISH
END:VEVENT
END:VCALENDAR
