BEGIN:VCALENDAR
PRODID:-//hacksw/handcal//NONSGML v1.0//EN
BEGIN:VEVENT
DTSTART;TZID=America/New_York:20260411T190000
DTEND;TZID=America/New_York:20260411T220000
LOCATION:
SUMMARY:Yale GALA and Gaylies (LGBTQ Grad Students) Gathering
DESCRIPTION:Join us and meet with fellow Yale Alumni and Grad Students
METHOD:PUBLISH
END:VEVENT
END:VCALENDAR
