BEGIN:VCALENDAR
PRODID:-//hacksw/handcal//NONSGML v1.0//EN
BEGIN:VEVENT
DTSTART;TZID=America/New_York:20260414T183000
DTEND;TZID=America/New_York:20260414T203000
LOCATION:
SUMMARY:San Francisco, CA - IvyPride Monthly Meetup at Martin's House
DESCRIPTION:
METHOD:PUBLISH
END:VEVENT
END:VCALENDAR
