BEGIN:VCALENDAR
PRODID:-//hacksw/handcal//NONSGML v1.0//EN
BEGIN:VEVENT
DTSTART;TZID=America/New_York:20260415T183000
DTEND;TZID=America/New_York:20260415T203000
LOCATION:
SUMMARY:New York, NY - LGBTQ Intercollegiate Alumni Women & Non-Binary Party
DESCRIPTION:
METHOD:PUBLISH
END:VEVENT
END:VCALENDAR
