BEGIN:VCALENDAR
PRODID:-//hacksw/handcal//NONSGML v1.0//EN
BEGIN:VEVENT
DTSTART;TZID=America/New_York:20260422T190000
DTEND;TZID=America/New_York:20260422T210000
LOCATION:
SUMMARY:Los Angeles, CA - LA Pride Alliance Meetup in West Hollywood
DESCRIPTION:
METHOD:PUBLISH
END:VEVENT
END:VCALENDAR
