BEGIN:VCALENDAR
PRODID:-//hacksw/handcal//NONSGML v1.0//EN
BEGIN:VEVENT
DTSTART;TZID=America/New_York:20260423T190000
DTEND;TZID=America/New_York:20260423T210000
LOCATION:
SUMMARY:New York, NY - A GBTQ Intercollegiate Alumni Men's Party at Boxers HK
DESCRIPTION:
METHOD:PUBLISH
END:VEVENT
END:VCALENDAR
