BEGIN:VCALENDAR
PRODID:-//hacksw/handcal//NONSGML v1.0//EN
BEGIN:VEVENT
DTSTART;TZID=America/New_York:20260429T183000
DTEND;TZID=America/New_York:20260429T203000
LOCATION:
SUMMARY:Washington DC - LGBTQ+ Intercollegiate Happy Hour at Crush
DESCRIPTION:
METHOD:PUBLISH
END:VEVENT
END:VCALENDAR
