BEGIN:VCALENDAR
PRODID:-//hacksw/handcal//NONSGML v1.0//EN
BEGIN:VEVENT
DTSTART;TZID=America/New_York:20260611T183000
DTEND;TZID=America/New_York:20260611T203000
LOCATION:
SUMMARY:Palo Alto, CA - IvyPride Monthly Meetup at Barebottle Brewing Company
DESCRIPTION:
METHOD:PUBLISH
END:VEVENT
END:VCALENDAR
