BEGIN:VCALENDAR
PRODID:-//hacksw/handcal//NONSGML v1.0//EN
BEGIN:VEVENT
DTSTART;TZID=America/New_York:20260630T190000
DTEND;TZID=America/New_York:20260630T220000
LOCATION:
SUMMARY:NYC: Yale Club All Ivy Pride Party
DESCRIPTION: Finish Pride Month strong with a step into a night of pure magic, music, and mayhem at The Yale Club's The All-Ivy Pride Party.
METHOD:PUBLISH
END:VEVENT
END:VCALENDAR
