BEGIN:VCALENDAR
PRODID:-//hacksw/handcal//NONSGML v1.0//EN
BEGIN:VEVENT
DTSTART;TZID=America/New_York:20260522T150000
DTEND;TZID=America/New_York:20260522T170000
LOCATION:
SUMMARY:New Haven: Yale College Reunions: Yale LGBTQ Center Open House
DESCRIPTION:The Yale LGBTQ Center welcomes all alumni to join us at our open house/reception.
METHOD:PUBLISH
END:VEVENT
END:VCALENDAR
